BEGIN:VCALENDAR
VERSION:2.0
PRODID:-//Alperia Junior Camp - FC Südtirol - ECPv6.3.1//NONSGML v1.0//EN
CALSCALE:GREGORIAN
METHOD:PUBLISH
X-ORIGINAL-URL:https://camp.fc-suedtirol.com
X-WR-CALDESC:Eventi per Alperia Junior Camp - FC Südtirol
REFRESH-INTERVAL;VALUE=DURATION:PT1H
X-Robots-Tag:noindex
X-PUBLISHED-TTL:PT1H
BEGIN:VTIMEZONE
TZID:Europe/Rome
BEGIN:DAYLIGHT
TZOFFSETFROM:+0100
TZOFFSETTO:+0200
TZNAME:CEST
DTSTART:20260329T010000
END:DAYLIGHT
BEGIN:STANDARD
TZOFFSETFROM:+0200
TZOFFSETTO:+0100
TZNAME:CET
DTSTART:20261025T010000
END:STANDARD
END:VTIMEZONE
BEGIN:VEVENT
DTSTART;TZID=Europe/Rome:20260622T080000
DTEND;TZID=Europe/Rome:20260626T130000
DTSTAMP:20260420T084550
CREATED:20260116T085717Z
LAST-MODIFIED:20260128T154607Z
UID:10000046-1782115200-1782478800@camp.fc-suedtirol.com
SUMMARY:Junior Camp Bolzano / 22.06.26 – 26.06.26 / Half Day Camp - BZHD26
DESCRIPTION:Dal 22 al 26 giugno 2026\, gli Alperia Junior Camp faranno tappa a Bolzano (Campo Righi). Si tratta di una settimana di allenamenti "Half Day": dalle ore 9.00 alle 12.00 i partecipanti seguiranno gli allenamenti diretti da tecnici di comprovata esperienza\, con supervisione continua dalle 8.00 alle 13.00. \nOgni partecipante riceverà un kit da allenamento comprendente una maglia replica "away" dell'FC Südtirol\, riproduzione della versione indossata dai calciatori della prima squadra. Il kit include inoltre pantaloncini\, calzini\, un pallone firmato FCS\, una borraccia e uno zaino. \nL'Alperia Junior Camp prevede anche un allenamento specifico per portieri. Tutti i giovani "numeri 1" riceveranno un kit dedicato\, composto da maglia\, pantaloncini\, calzini\, guanti da portiere\, un pallone firmato FCS\, una borraccia e uno zaino. \nPrezzi:\nCamp giocatore: 145 €\nCamp portiere: 199 €
URL:https://camp.fc-suedtirol.com/camp/junior-camp-bolzano-22-06-26-26-06-26-half-day-camp-bzhd26/
LOCATION: Bolzano\, Via Cadorna\, 25\,  Bolzano\, BZ\, 39100\, Italia
CATEGORIES:giocatori,portieri
ATTACH;FMTTYPE=image/png:https://camp.fc-suedtirol.com/wp-content/uploads/2026/01/Camp2.png
ORGANIZER;CN="AFC Suedtirol":MAILTO:juniorcamps@fc-suedtirol.com
GEO:46.5094575;11.347299
X-APPLE-STRUCTURED-LOCATION;VALUE=URI;X-ADDRESS= Bolzano Via Cadorna 25  Bolzano BZ 39100 Italia;X-APPLE-RADIUS=500;X-TITLE=Via Cadorna\, 25:geo:11.347299,46.5094575
END:VEVENT
BEGIN:VEVENT
DTSTART;TZID=Europe/Rome:20260622T080000
DTEND;TZID=Europe/Rome:20260626T130000
DTSTAMP:20260420T084551
CREATED:20260116T113208Z
LAST-MODIFIED:20260123T113506Z
UID:10000052-1782115200-1782478800@camp.fc-suedtirol.com
SUMMARY:Junior Camp FCS Center Women / 22.06.26 – 26.06.26 / Half Day Camp - FCWHD26
DESCRIPTION:Dal 22 al 26 giugno 2026\, gli Alperia Junior Camp faranno tappa all'FCS Center. Si tratta di una settimana di allenamenti "Half Day": dalle ore 9.00 alle 12.00 le partecipanti seguiranno gli allenamenti dirette da tecnici di comprovata esperienza\, con supervisione continua dalle 8.00 alle 13.00. \nOgni partecipante riceverà un kit da allenamento comprendente una maglia replica "away" dell'FC Südtirol\, riproduzione della versione indossata dalle calciatrici della prima squadra. Il kit include inoltre pantaloncini\, calzini\, un pallone firmato FCS\, una borraccia e uno zaino. \nL'Alperia Junior Camp prevede anche un allenamento specifico per portieri. Tutte le giovani "numeri 1" riceveranno un kit dedicato\, composto da maglia\, pantaloncini\, calzini\, guanti da portiere\, un pallone firmato FCS\, una borraccia e uno zaino. \nPrezzi:\nCamp giocatore: 145 €\nCamp portiere: 199 €
URL:https://camp.fc-suedtirol.com/camp/junior-camp-fcs-center-women-22-06-26-26-06-26-half-day-camp-fcwhd26/
LOCATION: FCS Center/Appiano\, via Monticolo\, 37\, Appiano sulla strada del vino\, BZ\, 39057\, Italia
CATEGORIES:giocatori,portieri
ATTACH;FMTTYPE=image/png:https://camp.fc-suedtirol.com/wp-content/uploads/2026/01/Camp3-1.png
ORGANIZER;CN="AFC Suedtirol":MAILTO:juniorcamps@fc-suedtirol.com
GEO:46.4467203;11.287474
X-APPLE-STRUCTURED-LOCATION;VALUE=URI;X-ADDRESS= FCS Center/Appiano via Monticolo 37 Appiano sulla strada del vino BZ 39057 Italia;X-APPLE-RADIUS=500;X-TITLE=via Monticolo\, 37:geo:11.287474,46.4467203
END:VEVENT
BEGIN:VEVENT
DTSTART;TZID=Europe/Rome:20260629T080000
DTEND;TZID=Europe/Rome:20260703T130000
DTSTAMP:20260420T084551
CREATED:20260116T154607Z
LAST-MODIFIED:20260220T110033Z
UID:10000065-1782720000-1783083600@camp.fc-suedtirol.com
SUMMARY:Junior Camp Valdaora / 29.06.26 – 03.07.26 / Half Day Camp - VALDAHD26
DESCRIPTION:Dal 29 giugno al 3 luglio 2026\, gli Alperia Junior Camp faranno tappa a Valdaora. Si tratta di una settimana di allenamenti "Half Day": dalle ore 9.30 alle 12.30 i partecipanti seguiranno gli allenamenti diretti da tecnici di comprovata esperienza\, con supervisione continua dalle 9.00 alle 13.00. \nOgni partecipante riceverà un kit da allenamento comprendente una maglia replica "away" dell'FC Südtirol\, riproduzione della versione indossata dai calciatori della prima squadra. Il kit include inoltre pantaloncini\, calzini\, un pallone firmato FCS\, una borraccia e uno zaino. \nL'Alperia Junior Camp prevede anche un allenamento specifico per portieri. Tutti i giovani "numeri 1" riceveranno un kit dedicato\, composto da maglia\, pantaloncini\, calzini\, guanti da portiere\, un pallone firmato FCS\, una borraccia e uno zaino. \nPrezzi:\nCamp giocatore: 145 €\nCamp portiere: 199 €
URL:https://camp.fc-suedtirol.com/camp/junior-camp-valdaora-29-06-26-03-07-26-half-day-camp-valdahd26/
LOCATION: Valdaora\, Via Ontani\,  Valdaora\, BZ\, 39030\, Italia
CATEGORIES:giocatori,portieri
ATTACH;FMTTYPE=image/png:https://camp.fc-suedtirol.com/wp-content/uploads/2026/01/Camp2.png
ORGANIZER;CN="AFC Suedtirol":MAILTO:juniorcamps@fc-suedtirol.com
GEO:46.764899;12.0193769
X-APPLE-STRUCTURED-LOCATION;VALUE=URI;X-ADDRESS= Valdaora Via Ontani  Valdaora BZ 39030 Italia;X-APPLE-RADIUS=500;X-TITLE=Via Ontani:geo:12.0193769,46.764899
END:VEVENT
BEGIN:VEVENT
DTSTART;TZID=Europe/Rome:20260720T080000
DTEND;TZID=Europe/Rome:20260724T130000
DTSTAMP:20260420T084551
CREATED:20260116T155403Z
LAST-MODIFIED:20260126T115521Z
UID:10000066-1784534400-1784898000@camp.fc-suedtirol.com
SUMMARY:Junior Camp FCS CENTER  / 20.07.26 – 24.07.26 / Half Day Camp - FCSHD26
DESCRIPTION:Dal 20 luglio al 24 luglio 2026\, gli Alperia Junior Camp faranno tappa a FCS CENTER (Appiano). Si tratta di una settimana di allenamenti "Half Day": dalle ore 9.00 alle 12.00 i partecipanti seguiranno gli allenamenti diretti da tecnici di comprovata esperienza\, con supervisione continua dalle 8.00 alle 13.00. \nOgni partecipante riceverà un kit da allenamento comprendente una maglia replica "away" dell'FC Südtirol\, riproduzione della versione indossata dai calciatori della prima squadra. Il kit include inoltre pantaloncini\, calzini\, un pallone firmato FCS\, una borraccia e uno zaino. \nL'Alperia Junior Camp prevede anche un allenamento specifico per portieri. Tutti i giovani "numeri 1" riceveranno un kit dedicato\, composto da maglia\, pantaloncini\, calzini\, guanti da portiere\, un pallone firmato FCS\, una borraccia e uno zaino. \nPrezzi:\nCamp giocatore: 145 €\nCamp portiere: 199 €
URL:https://camp.fc-suedtirol.com/camp/junior-camp-fcs-center-24-08-26-28-08-26-half-day-camp-fcshd26/
LOCATION: FCS Center/Appiano\, via Monticolo\, 37\, Appiano sulla strada del vino\, BZ\, 39057\, Italia
CATEGORIES:giocatori,portieri
ATTACH;FMTTYPE=image/png:https://camp.fc-suedtirol.com/wp-content/uploads/2026/01/Camp2.png
ORGANIZER;CN="AFC Suedtirol":MAILTO:juniorcamps@fc-suedtirol.com
GEO:46.4467203;11.287474
X-APPLE-STRUCTURED-LOCATION;VALUE=URI;X-ADDRESS= FCS Center/Appiano via Monticolo 37 Appiano sulla strada del vino BZ 39057 Italia;X-APPLE-RADIUS=500;X-TITLE=via Monticolo\, 37:geo:11.287474,46.4467203
END:VEVENT
BEGIN:VEVENT
DTSTART;TZID=Europe/Rome:20260803T080000
DTEND;TZID=Europe/Rome:20260807T130000
DTSTAMP:20260420T084551
CREATED:20260119T081904Z
LAST-MODIFIED:20260123T113553Z
UID:10000067-1785744000-1786107600@camp.fc-suedtirol.com
SUMMARY:Junior Camp Milland / 03.08.26 – 07.08.26 / Half Day Camp - MIHD26
DESCRIPTION:Dal 3 agosto al 7 agosto 2026\, gli Alperia Junior Camp faranno tappa a Milland (Bressanone). Si tratta di una settimana di allenamenti "Half Day": Lunedì-Giovedì dalle ore 9.00 alle 12.00\, Venerdì 15.00-17.00 i partecipanti seguiranno gli allenamenti diretti da tecnici di comprovata esperienza\, con supervisione continua Lunedì-Giovedì 8.30-12.30\, Venerdì 14:30-17:00. \nOgni partecipante riceverà un kit da allenamento comprendente una maglia replica "away" dell'FC Südtirol\, riproduzione della versione indossata dai calciatori della prima squadra. Il kit include inoltre pantaloncini\, calzini\, un pallone firmato FCS\, una borraccia e uno zaino. \nL'Alperia Junior Camp prevede anche un allenamento specifico per portieri. Tutti i giovani "numeri 1" riceveranno un kit dedicato\, composto da maglia\, pantaloncini\, calzini\, guanti da portiere\, un pallone firmato FCS\, una borraccia e uno zaino. \nPrezzi:\nCamp giocatore: 145 €\nCamp portiere: 199 €
URL:https://camp.fc-suedtirol.com/camp/junior-camp-milland-03-08-26-07-08-26-half-day-camp-mihd26/
LOCATION: Millan\, Via Sarnes 17\, Bressanone\, BZ\, 39042\, Italia
CATEGORIES:giocatori,portieri
ATTACH;FMTTYPE=image/png:https://camp.fc-suedtirol.com/wp-content/uploads/2026/01/Camp2.png
ORGANIZER;CN="AFC Suedtirol":MAILTO:juniorcamps@fc-suedtirol.com
GEO:46.7044351;11.6577436
X-APPLE-STRUCTURED-LOCATION;VALUE=URI;X-ADDRESS= Millan Via Sarnes 17 Bressanone BZ 39042 Italia;X-APPLE-RADIUS=500;X-TITLE=Via Sarnes 17:geo:11.6577436,46.7044351
END:VEVENT
BEGIN:VEVENT
DTSTART;TZID=Europe/Rome:20260803T080000
DTEND;TZID=Europe/Rome:20260807T130000
DTSTAMP:20260420T084551
CREATED:20260119T082613Z
LAST-MODIFIED:20260219T134634Z
UID:10000068-1785744000-1786107600@camp.fc-suedtirol.com
SUMMARY:Junior Camp Naturno / 03.08.26 – 07.08.26 / Half Day Camp - NAHD26
DESCRIPTION:Dal 3 agosto al 7 agosto 2026\, gli Alperia Junior Camp faranno tappa a Naturno. Si tratta di una settimana di allenamenti "Half Day": Lunedì-Giovedì dalle ore 9.30 alle 12.30\, Venerdì dalle 15.00-17.00 i partecipanti seguiranno gli allenamenti diretti da tecnici di comprovata esperienza\, con supervisione continua dalle 9.00 alle 13.00 Venerdì dalle 14.30-17.30. \nOgni partecipante riceverà un kit da allenamento comprendente una maglia replica "away" dell'FC Südtirol\, riproduzione della versione indossata dai calciatori della prima squadra. Il kit include inoltre pantaloncini\, calzini\, un pallone firmato FCS\, una borraccia e uno zaino. \nL'Alperia Junior Camp prevede anche un allenamento specifico per portieri. Tutti i giovani "numeri 1" riceveranno un kit dedicato\, composto da maglia\, pantaloncini\, calzini\, guanti da portiere\, un pallone firmato FCS\, una borraccia e uno zaino. \nPrezzi:\nCamp giocatore: 145 €\nCamp portiere: 199 €
URL:https://camp.fc-suedtirol.com/camp/junior-camp-naturno-03-08-26-07-08-26-half-day-camp-nahd26/
LOCATION: Naturno\, Via Stazione 70\,  Naturno\, BZ\, 39025\, Italia
CATEGORIES:giocatori,portieri
ATTACH;FMTTYPE=image/png:https://camp.fc-suedtirol.com/wp-content/uploads/2026/01/Camp2.png
ORGANIZER;CN="AFC Suedtirol":MAILTO:juniorcamps@fc-suedtirol.com
GEO:46.6413797;11.0055847
X-APPLE-STRUCTURED-LOCATION;VALUE=URI;X-ADDRESS= Naturno Via Stazione 70  Naturno BZ 39025 Italia;X-APPLE-RADIUS=500;X-TITLE=Via Stazione 70:geo:11.0055847,46.6413797
END:VEVENT
BEGIN:VEVENT
DTSTART;TZID=Europe/Rome:20260817T080000
DTEND;TZID=Europe/Rome:20260821T130000
DTSTAMP:20260420T084551
CREATED:20260119T084716Z
LAST-MODIFIED:20260123T113655Z
UID:10000069-1786953600-1787317200@camp.fc-suedtirol.com
SUMMARY:Junior Camp Laives / 17.08.26 – 21.08.26 / Half Day Camp - LAIVESHD26
DESCRIPTION:Dal 17 agosto al 21 agosto 2026\, gli Alperia Junior Camp faranno tappa a Laives. Si tratta di una settimana di allenamenti "Half Day": dalle ore 9.00 alle 12.00 i partecipanti seguiranno gli allenamenti diretti da tecnici di comprovata esperienza\, con supervisione continua dalle 8.00 alle 13.00. \nOgni partecipante riceverà un kit da allenamento comprendente una maglia replica "away" dell'FC Südtirol\, riproduzione della versione indossata dai calciatori della prima squadra. Il kit include inoltre pantaloncini\, calzini\, un pallone firmato FCS\, una borraccia e uno zaino. \nL'Alperia Junior Camp prevede anche un allenamento specifico per portieri. Tutti i giovani "numeri 1" riceveranno un kit dedicato\, composto da maglia\, pantaloncini\, calzini\, guanti da portiere\, un pallone firmato FCS\, una borraccia e uno zaino. \nPrezzi:\nCamp giocatore: 145 €\nCamp portiere: 199 €
URL:https://camp.fc-suedtirol.com/camp/junior-camp-laives-17-08-26-21-08-26-half-day-camp-laiveshd26/
LOCATION:Laives\, Via Rio Vallarsa 12\, Laives\, BZ\, 39055\, Italy
CATEGORIES:giocatori,portieri
ATTACH;FMTTYPE=image/png:https://camp.fc-suedtirol.com/wp-content/uploads/2026/01/Camp2.png
ORGANIZER;CN="AFC Suedtirol":MAILTO:juniorcamps@fc-suedtirol.com
GEO:46.4181536;11.3379771
X-APPLE-STRUCTURED-LOCATION;VALUE=URI;X-ADDRESS=Laives Via Rio Vallarsa 12 Laives BZ 39055 Italy;X-APPLE-RADIUS=500;X-TITLE=Via Rio Vallarsa 12:geo:11.3379771,46.4181536
END:VEVENT
BEGIN:VEVENT
DTSTART;TZID=Europe/Rome:20260824T080000
DTEND;TZID=Europe/Rome:20260828T130000
DTSTAMP:20260420T084551
CREATED:20260116T145354Z
LAST-MODIFIED:20260123T113639Z
UID:10000064-1787558400-1787922000@camp.fc-suedtirol.com
SUMMARY:Junior Camp Bolzano / 24.08.26 – 28.08.26 / Half Day Camp - BZ2HD26
DESCRIPTION:Dal 24 Agosto al 28 Agosto 2026\, gli Alperia Junior Camp faranno tappa a Bolzano (Campo Righi). Si tratta di una settimana di allenamenti "Half Day": dalle ore 9.00 alle 12.00 i partecipanti seguiranno gli allenamenti diretti da tecnici di comprovata esperienza\, con supervisione continua dalle 8.00 alle 13.00. \nOgni partecipante riceverà un kit da allenamento comprendente una maglia replica "away" dell'FC Südtirol\, riproduzione della versione indossata dai calciatori della prima squadra. Il kit include inoltre pantaloncini\, calzini\, un pallone firmato FCS\, una borraccia e uno zaino. \nL'Alperia Junior Camp prevede anche un allenamento specifico per portieri. Tutti i giovani "numeri 1" riceveranno un kit dedicato\, composto da maglia\, pantaloncini\, calzini\, guanti da portiere\, un pallone firmato FCS\, una borraccia e uno zaino. \nPrezzi:\nCamp giocatore: 145 €\nCamp portiere: 199 €
URL:https://camp.fc-suedtirol.com/camp/junior-camp-bolzano-24-08-26-28-08-26-half-day-camp-bz2hd26/
LOCATION: Bolzano\, Via Cadorna\, 25\,  Bolzano\, BZ\, 39100\, Italia
CATEGORIES:giocatori,portieri
ATTACH;FMTTYPE=image/png:https://camp.fc-suedtirol.com/wp-content/uploads/2026/01/Camp2.png
ORGANIZER;CN="AFC Suedtirol":MAILTO:juniorcamps@fc-suedtirol.com
GEO:46.5094575;11.347299
X-APPLE-STRUCTURED-LOCATION;VALUE=URI;X-ADDRESS= Bolzano Via Cadorna 25  Bolzano BZ 39100 Italia;X-APPLE-RADIUS=500;X-TITLE=Via Cadorna\, 25:geo:11.347299,46.5094575
END:VEVENT
END:VCALENDAR