BEGIN:VCALENDAR
VERSION:2.0
PRODID:-//Alperia Junior Camp - FC Südtirol - ECPv6.3.1//NONSGML v1.0//EN
CALSCALE:GREGORIAN
METHOD:PUBLISH
X-WR-CALNAME:Alperia Junior Camp - FC Südtirol
X-ORIGINAL-URL:https://camp.fc-suedtirol.com
X-WR-CALDESC:Eventi per Alperia Junior Camp - FC Südtirol
REFRESH-INTERVAL;VALUE=DURATION:PT1H
X-Robots-Tag:noindex
X-PUBLISHED-TTL:PT1H
BEGIN:VTIMEZONE
TZID:Europe/Rome
BEGIN:DAYLIGHT
TZOFFSETFROM:+0100
TZOFFSETTO:+0200
TZNAME:CEST
DTSTART:20260329T010000
END:DAYLIGHT
BEGIN:STANDARD
TZOFFSETFROM:+0200
TZOFFSETTO:+0100
TZNAME:CET
DTSTART:20261025T010000
END:STANDARD
END:VTIMEZONE
BEGIN:VEVENT
DTSTART;TZID=Europe/Rome:20260713T083000
DTEND;TZID=Europe/Rome:20260717T170000
DTSTAMP:20260420T055527
CREATED:20260116T115431Z
LAST-MODIFIED:20260123T110752Z
UID:10000053-1783931400-1784307600@camp.fc-suedtirol.com
SUMMARY:Junior Camp Castelrotto / 13.07.26 – 17.07.26 / Full Day Camp - KAFD26
DESCRIPTION:Dal 13 luglio al 17 luglio 2026 gli Alperia Junior Camp faranno tappa a Castelrotto (Laranz). Si tratta di una settimana di allenamenti "Full Day": i partecipanti saranno seguiti dalle ore 8.30 alle 17.00 da allenatori altamente qualificati\, con le attività della giornata che inizieranno alle ore 9.00. \nOgni partecipante riceverà un kit da allenamento comprendente una maglia replica “away” dell’FC Südtirol\, riproduzione della versione indossata dai calciatori della prima squadra. Il kit include inoltre pantaloncini\, calzini\, un pallone firmato FCS\, una borraccia\, uno zaino ed una t-shirt per il tempo libero. \nL’Alperia Junior Camp prevede anche un allenamento specifico per portieri. Tutti i giovani “numeri 1” riceveranno un kit dedicato\, composto da maglia\, pantaloncini\, calzini\, guanti da portiere\, un pallone firmato FCS\, una borraccia\, uno zaino ed una t-shirt per il tempo libero. \nPrezzi: \nCamp giocatore: 219€\nCamp portiere: 299€
URL:https://camp.fc-suedtirol.com/camp/junior-camp-castelrotto-13-07-26-17-07-26-full-day-camp-kafd26/
LOCATION:Castelrotto\, Via del Paese 14\, Castelrotto\, 39040\, Italy
CATEGORIES:giocatori,portieri
ATTACH;FMTTYPE=image/png:https://camp.fc-suedtirol.com/wp-content/uploads/2026/01/Camp2.png
ORGANIZER;CN="AFC Suedtirol":MAILTO:juniorcamps@fc-suedtirol.com
GEO:46.5475389;11.6084644
X-APPLE-STRUCTURED-LOCATION;VALUE=URI;X-ADDRESS=Castelrotto Via del Paese 14 Castelrotto 39040 Italy;X-APPLE-RADIUS=500;X-TITLE=Via del Paese 14:geo:11.6084644,46.5475389
END:VEVENT
END:VCALENDAR