BEGIN:VCALENDAR
VERSION:2.0
PRODID:-//Alperia Junior Camp - FC Südtirol - ECPv6.3.1//NONSGML v1.0//EN
CALSCALE:GREGORIAN
METHOD:PUBLISH
X-ORIGINAL-URL:https://camp.fc-suedtirol.com
X-WR-CALDESC:Eventi per Alperia Junior Camp - FC Südtirol
REFRESH-INTERVAL;VALUE=DURATION:PT1H
X-Robots-Tag:noindex
X-PUBLISHED-TTL:PT1H
BEGIN:VTIMEZONE
TZID:Europe/Rome
BEGIN:DAYLIGHT
TZOFFSETFROM:+0100
TZOFFSETTO:+0200
TZNAME:CEST
DTSTART:20260329T010000
END:DAYLIGHT
BEGIN:STANDARD
TZOFFSETFROM:+0200
TZOFFSETTO:+0100
TZNAME:CET
DTSTART:20261025T010000
END:STANDARD
END:VTIMEZONE
BEGIN:VEVENT
DTSTART;TZID=Europe/Rome:20260629T083000
DTEND;TZID=Europe/Rome:20260703T170000
DTSTAMP:20260420T055551
CREATED:20260116T092528Z
LAST-MODIFIED:20260123T110425Z
UID:10000047-1782721800-1783098000@camp.fc-suedtirol.com
SUMMARY:Junior Camp Egna / 29.06.26 – 03.07.26 / Full Day Camp - EGFD26
DESCRIPTION:Dal 29 giugno al 3 luglio 2026 gli Alperia Junior Camp faranno tappa ad Egna. Si tratta di una settimana di allenamenti "Full Day": i partecipanti saranno seguiti dalle ore 8.30 alle 17.00 da allenatori altamente qualificati\, con le attività della giornata che inizieranno alle ore 9.00. \nOgni partecipante riceverà un kit da allenamento comprendente una maglia replica "away" dell'FC Südtirol\, riproduzione della versione indossata dai calciatori della prima squadra. Il kit include inoltre pantaloncini\, calzini\, un pallone firmato FCS\, una borraccia\, uno zaino ed una t-shirt per il tempo libero. \nL'Alperia Junior Camp prevede anche un allenamento specifico per portieri. Tutti i giovani "numeri 1" riceveranno un kit dedicato\, composto da maglia\, pantaloncini\, calzini\, guanti da portiere\, un pallone firmato FCS\, una borraccia\, uno zaino ed una t-shirt per il tempo libero. \nPrezzi:\nCamp giocatore: 219€\nCamp portiere: 299€
URL:https://camp.fc-suedtirol.com/camp/junior-camp-bolzano-29-06-26-03-07-26-full-day-camp-egfd26/
LOCATION: Egna\, Via Platz\, 2\,  Egna\, BZ\, 39044\, Italia
CATEGORIES:giocatori,portieri
ATTACH;FMTTYPE=image/png:https://camp.fc-suedtirol.com/wp-content/uploads/2026/01/Camp2.png
ORGANIZER;CN="AFC Suedtirol":MAILTO:juniorcamps@fc-suedtirol.com
GEO:46.3214943;11.2711188
X-APPLE-STRUCTURED-LOCATION;VALUE=URI;X-ADDRESS= Egna Via Platz 2  Egna BZ 39044 Italia;X-APPLE-RADIUS=500;X-TITLE=Via Platz\, 2:geo:11.2711188,46.3214943
END:VEVENT
END:VCALENDAR