BEGIN:VCALENDAR
VERSION:2.0
PRODID:-//Alperia Junior Camp - FC Südtirol - ECPv6.3.1//NONSGML v1.0//EN
CALSCALE:GREGORIAN
METHOD:PUBLISH
X-WR-CALNAME:Alperia Junior Camp - FC Südtirol
X-ORIGINAL-URL:https://camp.fc-suedtirol.com
X-WR-CALDESC:Eventi per Alperia Junior Camp - FC Südtirol
REFRESH-INTERVAL;VALUE=DURATION:PT1H
X-Robots-Tag:noindex
X-PUBLISHED-TTL:PT1H
BEGIN:VTIMEZONE
TZID:Europe/Rome
BEGIN:DAYLIGHT
TZOFFSETFROM:+0100
TZOFFSETTO:+0200
TZNAME:CEST
DTSTART:20260329T010000
END:DAYLIGHT
BEGIN:STANDARD
TZOFFSETFROM:+0200
TZOFFSETTO:+0100
TZNAME:CET
DTSTART:20261025T010000
END:STANDARD
END:VTIMEZONE
BEGIN:VEVENT
DTSTART;TZID=Europe/Rome:20260720T083000
DTEND;TZID=Europe/Rome:20260724T170000
DTSTAMP:20260420T055454
CREATED:20260116T143852Z
LAST-MODIFIED:20260123T110803Z
UID:10000063-1784536200-1784912400@camp.fc-suedtirol.com
SUMMARY:Junior Camp ISCHIA / 20.07.26 – 24.07.26 / Full Day Camp - ISCHIAFD26
DESCRIPTION:Dal 20 luglio al 24 luglio 2026 gli FCS Junior Camp faranno tappa a Ischia di Pergine. Si tratta di una settimana di allenamenti "Full Day": i partecipanti saranno seguiti dalle ore 8.30 alle 17.00 da allenatori altamente qualificati\, con le attività della giornata che inizieranno alle ore 9.00. \nOgni partecipante riceverà un kit da allenamento comprendente una maglia replica “away” dell’FC Südtirol\, riproduzione della versione indossata dai calciatori della prima squadra. Il kit include inoltre pantaloncini\, calzini\, un pallone firmato FCS\, una borraccia\, uno zaino ed una t-shirt per il tempo libero. \nL’FCS Junior Camp prevede anche un allenamento specifico per portieri. Tutti i giovani “numeri 1” riceveranno un kit dedicato\, composto da maglia\, pantaloncini\, calzini\, guanti da portiere\, un pallone firmato FCS\, una borraccia\, uno zaino ed una t-shirt per il tempo libero. \nPrezzi: \nCamp giocatore: 219€\nCamp portiere: 299€
URL:https://camp.fc-suedtirol.com/camp/junior-camp-ischia-20-07-26-24-07-26-full-day-camp-ischiafd26/
LOCATION:Ischia\, Ischia di Pergine Valsugana TN\, Ischia di Pergine\, TN\, 38057\, Italy
CATEGORIES:giocatori,portieri
ATTACH;FMTTYPE=image/png:https://camp.fc-suedtirol.com/wp-content/uploads/2026/01/Camp.png
ORGANIZER;CN="AFC Suedtirol":MAILTO:juniorcamps@fc-suedtirol.com
GEO:46.0328943;11.2477571
X-APPLE-STRUCTURED-LOCATION;VALUE=URI;X-ADDRESS=Ischia Ischia di Pergine Valsugana TN Ischia di Pergine TN 38057 Italy;X-APPLE-RADIUS=500;X-TITLE=Ischia di Pergine Valsugana TN:geo:11.2477571,46.0328943
END:VEVENT
END:VCALENDAR