BEGIN:VCALENDAR
VERSION:2.0
PRODID:-//Alperia Junior Camp - FC Südtirol - ECPv6.3.1//NONSGML v1.0//EN
CALSCALE:GREGORIAN
METHOD:PUBLISH
X-ORIGINAL-URL:https://camp.fc-suedtirol.com
X-WR-CALDESC:Eventi per Alperia Junior Camp - FC Südtirol
REFRESH-INTERVAL;VALUE=DURATION:PT1H
X-Robots-Tag:noindex
X-PUBLISHED-TTL:PT1H
BEGIN:VTIMEZONE
TZID:Europe/Rome
BEGIN:DAYLIGHT
TZOFFSETFROM:+0100
TZOFFSETTO:+0200
TZNAME:CEST
DTSTART:20260329T010000
END:DAYLIGHT
BEGIN:STANDARD
TZOFFSETFROM:+0200
TZOFFSETTO:+0100
TZNAME:CET
DTSTART:20261025T010000
END:STANDARD
END:VTIMEZONE
BEGIN:VEVENT
DTSTART;TZID=Europe/Rome:20260713T083000
DTEND;TZID=Europe/Rome:20260717T170000
DTSTAMP:20260420T055548
CREATED:20260116T094049Z
LAST-MODIFIED:20260123T110516Z
UID:10000049-1783931400-1784307600@camp.fc-suedtirol.com
SUMMARY:Junior Camp La Valle / 13.07.26 – 17.07.26 / Full Day Camp - LVFD26
DESCRIPTION:Dal 13 luglio al 17 luglio 2026 gli Alperia Junior Camp faranno tappa a La Valle. Si tratta di una settimana di allenamenti "Full Day": i partecipanti saranno seguiti dalle ore 8.30 alle 17.00 da allenatori altamente qualificati\, con le attività della giornata che inizieranno alle ore 9.00. \nOgni partecipante riceverà un kit da allenamento comprendente una maglia replica “away” dell’FC Südtirol\, riproduzione della versione indossata dai calciatori della prima squadra. Il kit include inoltre pantaloncini\, calzini\, un pallone firmato FCS\, una borraccia\, uno zaino ed una t-shirt per il tempo libero. \nPrezzi: \nCamp giocatore: 219€
URL:https://camp.fc-suedtirol.com/camp/junior-camp-la-valle-13-07-26-17-07-26-full-day-camp-lvfd26/
LOCATION: La Valle\, Plans 4\,  La Valle\, BZ\, 39030\, Italia
CATEGORIES:giocatori,portieri
ATTACH;FMTTYPE=image/png:https://camp.fc-suedtirol.com/wp-content/uploads/2026/01/Camp2.png
ORGANIZER;CN="AFC Suedtirol":MAILTO:juniorcamps@fc-suedtirol.com
GEO:46.6547298;11.9305894
X-APPLE-STRUCTURED-LOCATION;VALUE=URI;X-ADDRESS= La Valle Plans 4  La Valle BZ 39030 Italia;X-APPLE-RADIUS=500;X-TITLE=Plans 4:geo:11.9305894,46.6547298
END:VEVENT
END:VCALENDAR