BEGIN:VCALENDAR
VERSION:2.0
PRODID:-//Alperia Junior Camp - FC Südtirol - ECPv6.3.1//NONSGML v1.0//EN
CALSCALE:GREGORIAN
METHOD:PUBLISH
X-WR-CALNAME:Alperia Junior Camp - FC Südtirol
X-ORIGINAL-URL:https://camp.fc-suedtirol.com
X-WR-CALDESC:Eventi per Alperia Junior Camp - FC Südtirol
REFRESH-INTERVAL;VALUE=DURATION:PT1H
X-Robots-Tag:noindex
X-PUBLISHED-TTL:PT1H
BEGIN:VTIMEZONE
TZID:Europe/Rome
BEGIN:DAYLIGHT
TZOFFSETFROM:+0100
TZOFFSETTO:+0200
TZNAME:CEST
DTSTART:20260329T010000
END:DAYLIGHT
BEGIN:STANDARD
TZOFFSETFROM:+0200
TZOFFSETTO:+0100
TZNAME:CET
DTSTART:20261025T010000
END:STANDARD
END:VTIMEZONE
BEGIN:VEVENT
DTSTART;TZID=Europe/Rome:20260629T080000
DTEND;TZID=Europe/Rome:20260703T130000
DTSTAMP:20260423T015439
CREATED:20260116T154607Z
LAST-MODIFIED:20260220T110033Z
UID:10000065-1782720000-1783083600@camp.fc-suedtirol.com
SUMMARY:Junior Camp Valdaora / 29.06.26 – 03.07.26 / Half Day Camp - VALDAHD26
DESCRIPTION:Dal 29 giugno al 3 luglio 2026\, gli Alperia Junior Camp faranno tappa a Valdaora. Si tratta di una settimana di allenamenti "Half Day": dalle ore 9.30 alle 12.30 i partecipanti seguiranno gli allenamenti diretti da tecnici di comprovata esperienza\, con supervisione continua dalle 9.00 alle 13.00. \nOgni partecipante riceverà un kit da allenamento comprendente una maglia replica "away" dell'FC Südtirol\, riproduzione della versione indossata dai calciatori della prima squadra. Il kit include inoltre pantaloncini\, calzini\, un pallone firmato FCS\, una borraccia e uno zaino. \nL'Alperia Junior Camp prevede anche un allenamento specifico per portieri. Tutti i giovani "numeri 1" riceveranno un kit dedicato\, composto da maglia\, pantaloncini\, calzini\, guanti da portiere\, un pallone firmato FCS\, una borraccia e uno zaino. \nPrezzi:\nCamp giocatore: 145 €\nCamp portiere: 199 €
URL:https://camp.fc-suedtirol.com/camp/junior-camp-valdaora-29-06-26-03-07-26-half-day-camp-valdahd26/
LOCATION: Valdaora\, Via Ontani\,  Valdaora\, BZ\, 39030\, Italia
CATEGORIES:giocatori,portieri
ATTACH;FMTTYPE=image/png:https://camp.fc-suedtirol.com/wp-content/uploads/2026/01/Camp2.png
ORGANIZER;CN="AFC Suedtirol":MAILTO:juniorcamps@fc-suedtirol.com
GEO:46.764899;12.0193769
X-APPLE-STRUCTURED-LOCATION;VALUE=URI;X-ADDRESS= Valdaora Via Ontani  Valdaora BZ 39030 Italia;X-APPLE-RADIUS=500;X-TITLE=Via Ontani:geo:12.0193769,46.764899
END:VEVENT
END:VCALENDAR